BEGIN:VCALENDAR
VERSION:2.0
PRODID:-//Darby Street Station - ECPv6.15.20//NONSGML v1.0//EN
CALSCALE:GREGORIAN
METHOD:PUBLISH
X-WR-CALNAME:Darby Street Station
X-ORIGINAL-URL:https://darbystreetstation.co.nz
X-WR-CALDESC:Events for Darby Street Station
REFRESH-INTERVAL;VALUE=DURATION:PT1H
X-Robots-Tag:noindex
X-PUBLISHED-TTL:PT1H
BEGIN:VTIMEZONE
TZID:UTC
BEGIN:STANDARD
TZOFFSETFROM:+0000
TZOFFSETTO:+0000
TZNAME:UTC
DTSTART:20250101T000000
END:STANDARD
END:VTIMEZONE
BEGIN:VEVENT
DTSTART;TZID=UTC:20260523T200000
DTEND;TZID=UTC:20260524T010000
DTSTAMP:20260423T085229
CREATED:20260310T004547Z
LAST-MODIFIED:20260310T004547Z
UID:881-1779566400-1779584400@darbystreetstation.co.nz
SUMMARY:DON'T CALL ME NINETIES
DESCRIPTION:A celebration of 90s club anthems. Relive the golden era of dance for one night only!
URL:https://darbystreetstation.co.nz/event/dont-call-me-nineties/
LOCATION:Darby Street Station\, 16 Darby Street\, Auckland\, Auckland\, New Zealand
ATTACH;FMTTYPE=image/jpeg:https://darbystreetstation.co.nz/wp-content/uploads/2026/03/dont-call-me-nineties.jpg
END:VEVENT
END:VCALENDAR